BEGIN:VCALENDAR
VERSION:2.0
PRODID:-//Miramichi Valley High School - ECPv6.15.20//NONSGML v1.0//EN
CALSCALE:GREGORIAN
METHOD:PUBLISH
X-WR-CALNAME:Miramichi Valley High School
X-ORIGINAL-URL:https://miramichivalleyhigh.nbed.ca
X-WR-CALDESC:Events for Miramichi Valley High School
REFRESH-INTERVAL;VALUE=DURATION:PT1H
X-Robots-Tag:noindex
X-PUBLISHED-TTL:PT1H
BEGIN:VTIMEZONE
TZID:America/Halifax
BEGIN:DAYLIGHT
TZOFFSETFROM:-0400
TZOFFSETTO:-0300
TZNAME:ADT
DTSTART:20240310T060000
END:DAYLIGHT
BEGIN:STANDARD
TZOFFSETFROM:-0300
TZOFFSETTO:-0400
TZNAME:AST
DTSTART:20241103T050000
END:STANDARD
BEGIN:DAYLIGHT
TZOFFSETFROM:-0400
TZOFFSETTO:-0300
TZNAME:ADT
DTSTART:20250309T060000
END:DAYLIGHT
BEGIN:STANDARD
TZOFFSETFROM:-0300
TZOFFSETTO:-0400
TZNAME:AST
DTSTART:20251102T050000
END:STANDARD
BEGIN:DAYLIGHT
TZOFFSETFROM:-0400
TZOFFSETTO:-0300
TZNAME:ADT
DTSTART:20260308T060000
END:DAYLIGHT
BEGIN:STANDARD
TZOFFSETFROM:-0300
TZOFFSETTO:-0400
TZNAME:AST
DTSTART:20261101T050000
END:STANDARD
BEGIN:DAYLIGHT
TZOFFSETFROM:-0400
TZOFFSETTO:-0300
TZNAME:ADT
DTSTART:20270314T060000
END:DAYLIGHT
BEGIN:STANDARD
TZOFFSETFROM:-0300
TZOFFSETTO:-0400
TZNAME:AST
DTSTART:20271107T050000
END:STANDARD
END:VTIMEZONE
BEGIN:VEVENT
DTSTART;TZID=America/Halifax:20260518T080000
DTEND;TZID=America/Halifax:20260518T170000
DTSTAMP:20260425T222448
CREATED:20250919T164117Z
LAST-MODIFIED:20250919T164117Z
UID:2391-1779091200-1779123600@miramichivalleyhigh.nbed.ca
SUMMARY:Victoria Day
DESCRIPTION:
URL:https://miramichivalleyhigh.nbed.ca/event/victoria-day-3/
END:VEVENT
BEGIN:VEVENT
DTSTART;TZID=America/Halifax:20260501T080000
DTEND;TZID=America/Halifax:20260501T170000
DTSTAMP:20260425T222448
CREATED:20250919T164029Z
LAST-MODIFIED:20250919T164029Z
UID:2389-1777622400-1777654800@miramichivalleyhigh.nbed.ca
SUMMARY:NBTA Council Day - No School for Students
DESCRIPTION:
URL:https://miramichivalleyhigh.nbed.ca/event/nbta-council-day-no-school-for-students/
END:VEVENT
BEGIN:VEVENT
DTSTART;TZID=America/Halifax:20260430T080000
DTEND;TZID=America/Halifax:20260430T170000
DTSTAMP:20260425T222448
CREATED:20250919T163927Z
LAST-MODIFIED:20250919T163927Z
UID:2387-1777536000-1777568400@miramichivalleyhigh.nbed.ca
SUMMARY:NBTA Branch Meetings - No School for Students
DESCRIPTION:
URL:https://miramichivalleyhigh.nbed.ca/event/nbta-branch-meetings-no-school-for-students/
END:VEVENT
BEGIN:VEVENT
DTSTART;TZID=America/Halifax:20260408T170000
DTEND;TZID=America/Halifax:20260408T190000
DTSTAMP:20260425T222448
CREATED:20260402T122310Z
LAST-MODIFIED:20260402T122310Z
UID:2586-1775667600-1775674800@miramichivalleyhigh.nbed.ca
SUMMARY:Course Selection Evening
DESCRIPTION:Course Selection Evening
URL:https://miramichivalleyhigh.nbed.ca/event/course-selection-evening/
END:VEVENT
BEGIN:VEVENT
DTSTART;TZID=America/Halifax:20260406T080000
DTEND;TZID=America/Halifax:20260406T170000
DTSTAMP:20260425T222448
CREATED:20250919T163817Z
LAST-MODIFIED:20250919T163817Z
UID:2385-1775462400-1775494800@miramichivalleyhigh.nbed.ca
SUMMARY:Easter Monday
DESCRIPTION:
URL:https://miramichivalleyhigh.nbed.ca/event/easter-monday-3/
END:VEVENT
BEGIN:VEVENT
DTSTART;TZID=America/Halifax:20260403T080000
DTEND;TZID=America/Halifax:20260403T170000
DTSTAMP:20260425T222448
CREATED:20250919T163734Z
LAST-MODIFIED:20250919T163734Z
UID:2383-1775203200-1775235600@miramichivalleyhigh.nbed.ca
SUMMARY:Good Friday
DESCRIPTION:
URL:https://miramichivalleyhigh.nbed.ca/event/good-friday-3/
END:VEVENT
BEGIN:VEVENT
DTSTART;TZID=America/Halifax:20260402T090000
DTEND;TZID=America/Halifax:20260402T113000
DTSTAMP:20260425T222448
CREATED:20250919T163633Z
LAST-MODIFIED:20260331T122832Z
UID:2381-1775120400-1775129400@miramichivalleyhigh.nbed.ca
SUMMARY:Parent Teacher Interviews - No School for Students
DESCRIPTION:
URL:https://miramichivalleyhigh.nbed.ca/event/parent-teacher-interviews-no-school-for-students-2/
END:VEVENT
BEGIN:VEVENT
DTSTART;TZID=America/Halifax:20260401T170000
DTEND;TZID=America/Halifax:20260401T190000
DTSTAMP:20260425T222448
CREATED:20250919T163446Z
LAST-MODIFIED:20260331T122618Z
UID:2379-1775062800-1775070000@miramichivalleyhigh.nbed.ca
SUMMARY:Parent Teacher Interviews
DESCRIPTION:
URL:https://miramichivalleyhigh.nbed.ca/event/parent-teacher-interviews-3/
END:VEVENT
BEGIN:VEVENT
DTSTART;VALUE=DATE:20260302
DTEND;VALUE=DATE:20260307
DTSTAMP:20260425T222448
CREATED:20250919T164528Z
LAST-MODIFIED:20250919T164528Z
UID:2396-1772409600-1772841599@miramichivalleyhigh.nbed.ca
SUMMARY:March Break
DESCRIPTION:
URL:https://miramichivalleyhigh.nbed.ca/event/march-break-3/
END:VEVENT
BEGIN:VEVENT
DTSTART;TZID=America/Halifax:20260216T080000
DTEND;TZID=America/Halifax:20260216T170000
DTSTAMP:20260425T222448
CREATED:20250919T163248Z
LAST-MODIFIED:20250919T163248Z
UID:2377-1771228800-1771261200@miramichivalleyhigh.nbed.ca
SUMMARY:Family Day
DESCRIPTION:
URL:https://miramichivalleyhigh.nbed.ca/event/family-day-3/
END:VEVENT
BEGIN:VEVENT
DTSTART;TZID=America/Halifax:20260127T080000
DTEND;TZID=America/Halifax:20260127T170000
DTSTAMP:20260425T222448
CREATED:20250919T163012Z
LAST-MODIFIED:20250919T163012Z
UID:2375-1769500800-1769533200@miramichivalleyhigh.nbed.ca
SUMMARY:Turn Around Day - No School For Students
DESCRIPTION:
URL:https://miramichivalleyhigh.nbed.ca/event/turn-around-day-no-school-for-students-2/
END:VEVENT
BEGIN:VEVENT
DTSTART;TZID=America/Halifax:20260126T080000
DTEND;TZID=America/Halifax:20260126T170000
DTSTAMP:20260425T222448
CREATED:20250919T162736Z
LAST-MODIFIED:20250919T162736Z
UID:2373-1769414400-1769446800@miramichivalleyhigh.nbed.ca
SUMMARY:Turn Around Day - No School For Students
DESCRIPTION:
URL:https://miramichivalleyhigh.nbed.ca/event/turn-around-day-no-school-for-students/
END:VEVENT
BEGIN:VEVENT
DTSTART;VALUE=DATE:20260119
DTEND;VALUE=DATE:20260124
DTSTAMP:20260425T222448
CREATED:20250919T164321Z
LAST-MODIFIED:20250919T164321Z
UID:2393-1768780800-1769212799@miramichivalleyhigh.nbed.ca
SUMMARY:Exam Week
DESCRIPTION:
URL:https://miramichivalleyhigh.nbed.ca/event/exam-week/
END:VEVENT
BEGIN:VEVENT
DTSTART;TZID=America/Halifax:20260105T080000
DTEND;TZID=America/Halifax:20260105T170000
DTSTAMP:20260425T222448
CREATED:20250919T162636Z
LAST-MODIFIED:20250919T162636Z
UID:2371-1767600000-1767632400@miramichivalleyhigh.nbed.ca
SUMMARY:First Day of Classes
DESCRIPTION:
URL:https://miramichivalleyhigh.nbed.ca/event/first-day-of-classes-4/
END:VEVENT
BEGIN:VEVENT
DTSTART;TZID=America/Halifax:20251219T080000
DTEND;TZID=America/Halifax:20251219T170000
DTSTAMP:20260425T222448
CREATED:20250919T162550Z
LAST-MODIFIED:20250919T162550Z
UID:2369-1766131200-1766163600@miramichivalleyhigh.nbed.ca
SUMMARY:Last Day of Classes Before Christmas Break
DESCRIPTION:
URL:https://miramichivalleyhigh.nbed.ca/event/last-day-of-classes-before-christmas-break/
END:VEVENT
BEGIN:VEVENT
DTSTART;TZID=America/Halifax:20251205T200000
DTEND;TZID=America/Halifax:20251205T220000
DTSTAMP:20260425T222448
CREATED:20250919T162441Z
LAST-MODIFIED:20250919T164431Z
UID:2367-1764964800-1764972000@miramichivalleyhigh.nbed.ca
SUMMARY:Christmas Formal
DESCRIPTION:
URL:https://miramichivalleyhigh.nbed.ca/event/christmas-formal/
END:VEVENT
BEGIN:VEVENT
DTSTART;TZID=America/Halifax:20251120T160000
DTEND;TZID=America/Halifax:20251120T180000
DTSTAMP:20260425T222448
CREATED:20250919T162205Z
LAST-MODIFIED:20250919T162205Z
UID:2363-1763654400-1763661600@miramichivalleyhigh.nbed.ca
SUMMARY:Parent Teacher Interviews
DESCRIPTION:
URL:https://miramichivalleyhigh.nbed.ca/event/parent-teacher-interviews-2/
END:VEVENT
BEGIN:VEVENT
DTSTART;TZID=America/Halifax:20251111T080000
DTEND;TZID=America/Halifax:20251111T170000
DTSTAMP:20260425T222448
CREATED:20250919T162030Z
LAST-MODIFIED:20250919T162030Z
UID:2361-1762848000-1762880400@miramichivalleyhigh.nbed.ca
SUMMARY:Remembrance Day
DESCRIPTION:
URL:https://miramichivalleyhigh.nbed.ca/event/remembrance-day-3/
END:VEVENT
BEGIN:VEVENT
DTSTART;VALUE=DATE:20251020
DTEND;VALUE=DATE:20251021
DTSTAMP:20260425T222448
CREATED:20251007T161502Z
LAST-MODIFIED:20251007T161615Z
UID:2438-1760918400-1761004799@miramichivalleyhigh.nbed.ca
SUMMARY:Photo Retakes
DESCRIPTION:If students missed picture day or would like a retake\, the photographer will be at the school on October 20th.
URL:https://miramichivalleyhigh.nbed.ca/event/photo-retakes/
END:VEVENT
BEGIN:VEVENT
DTSTART;TZID=America/Halifax:20250930T080000
DTEND;TZID=America/Halifax:20250930T170000
DTSTAMP:20260425T222448
CREATED:20250919T161934Z
LAST-MODIFIED:20250919T161934Z
UID:2359-1759219200-1759251600@miramichivalleyhigh.nbed.ca
SUMMARY:National Day for Truth and Reconciliation Day
DESCRIPTION:
URL:https://miramichivalleyhigh.nbed.ca/event/national-day-for-truth-and-reconciliation-day/
END:VEVENT
BEGIN:VEVENT
DTSTART;TZID=America/Halifax:20250926T080000
DTEND;TZID=America/Halifax:20250926T170000
DTSTAMP:20260425T222448
CREATED:20250927T004102Z
LAST-MODIFIED:20250927T004102Z
UID:2417-1758873600-1758906000@miramichivalleyhigh.nbed.ca
SUMMARY:Bridge Closure
DESCRIPTION:https://www.facebook.com/share/p/1ALuuWuNtb/ \n \nSome Bus Schedules have been Impacted\nDue to the accident this morning that damaged Anderson Bridge\, the bridge will be closed for the foreseeable future. This bridge closure means that ASD-N transportation will have to make some adjustments to runs made by Bus 204 (Karen Jardine) and Bus 208 (Ben Curtis). \n\n\nBus 204 (Karen Jardine) – We will be splitting this run into two separate runs with two different buses to accommodate all of our students and ensure that they arrive to school at a reasonable time.\nBus 204 – Will be responsible for pickups from Blackville to the last stop on Warwick Road (Route 415).   This will include the stop at the corner of the Quarryville Road and Stewart’s Point Road.  These students will be picked up approximately 15 minutes later than usual. \nNew Extra Bus – Will be responsible for stops along Route 108. These students will be picked up approximately 30 minutes earlier than usual.  \n\n\n\nBus 208 (Beth Curtis) – Start time will be 6:45 a.m. on Parker Road.\nStudents at stops on Route 420 will be picked up in reverse order starting at the corner of Route 420 and Westwood at approximately 7:05 a.m. \nWe expect the bus to be on time for students who are picked up on Tardy Avenue and at the corner of Durrick and Locke.\n\n\nPlease note that drop offs after school will happen in the reverse of the morning pick up procedure. \nWe thank you for your patience and understanding while we adapt to the Anderson Bridge closure.
URL:https://miramichivalleyhigh.nbed.ca/event/bridge-closure/
END:VEVENT
BEGIN:VEVENT
DTSTART;TZID=America/Halifax:20250926T080000
DTEND;TZID=America/Halifax:20250926T170000
DTSTAMP:20260425T222448
CREATED:20250919T161736Z
LAST-MODIFIED:20250919T161736Z
UID:2356-1758873600-1758906000@miramichivalleyhigh.nbed.ca
SUMMARY:EECD Professional Learning Day - No School For Students
DESCRIPTION:
URL:https://miramichivalleyhigh.nbed.ca/event/eecd-professional-learning-day-no-school-for-students/
END:VEVENT
BEGIN:VEVENT
DTSTART;TZID=America/Halifax:20250919T090000
DTEND;TZID=America/Halifax:20250919T113000
DTSTAMP:20260425T222448
CREATED:20250919T162306Z
LAST-MODIFIED:20250919T162306Z
UID:2365-1758272400-1758281400@miramichivalleyhigh.nbed.ca
SUMMARY:Parent Teacher Interviews - No School For Students
DESCRIPTION:
URL:https://miramichivalleyhigh.nbed.ca/event/parent-teacher-interviews-no-school-for-students/
END:VEVENT
BEGIN:VEVENT
DTSTART;VALUE=DATE:20250624
DTEND;VALUE=DATE:20250626
DTSTAMP:20260425T222448
CREATED:20240925T184512Z
LAST-MODIFIED:20240925T184512Z
UID:2081-1750723200-1750895999@miramichivalleyhigh.nbed.ca
SUMMARY:Full Administration Day
DESCRIPTION:School-Based/Last Day for Teachers
URL:https://miramichivalleyhigh.nbed.ca/event/full-administration-day-5/
END:VEVENT
BEGIN:VEVENT
DTSTART;VALUE=DATE:20250623
DTEND;VALUE=DATE:20250624
DTSTAMP:20260425T222448
CREATED:20240925T184459Z
LAST-MODIFIED:20240925T184459Z
UID:2080-1750636800-1750723199@miramichivalleyhigh.nbed.ca
SUMMARY:NBTA Council Day
DESCRIPTION:
URL:https://miramichivalleyhigh.nbed.ca/event/nbta-council-day-6/
END:VEVENT
BEGIN:VEVENT
DTSTART;VALUE=DATE:20250620
DTEND;VALUE=DATE:20250621
DTSTAMP:20260425T222448
CREATED:20240925T184458Z
LAST-MODIFIED:20240925T184458Z
UID:2079-1750377600-1750463999@miramichivalleyhigh.nbed.ca
SUMMARY:Last Day for Students - Final Report Card Day (K-12)
DESCRIPTION:
URL:https://miramichivalleyhigh.nbed.ca/event/last-day-for-students-final-report-card-day-k-12/
END:VEVENT
BEGIN:VEVENT
DTSTART;VALUE=DATE:20250609
DTEND;VALUE=DATE:20250614
DTSTAMP:20260425T222448
CREATED:20250603T162653Z
LAST-MODIFIED:20250603T162828Z
UID:2299-1749427200-1749859199@miramichivalleyhigh.nbed.ca
SUMMARY:June Exams
DESCRIPTION:Exam Schedule June 2025
URL:https://miramichivalleyhigh.nbed.ca/event/june-exams/
END:VEVENT
BEGIN:VEVENT
DTSTART;VALUE=DATE:20250519
DTEND;VALUE=DATE:20250520
DTSTAMP:20260425T222448
CREATED:20240925T184458Z
LAST-MODIFIED:20240925T184458Z
UID:2077-1747612800-1747699199@miramichivalleyhigh.nbed.ca
SUMMARY:Victoria Day
DESCRIPTION:
URL:https://miramichivalleyhigh.nbed.ca/event/victoria-day-2/
END:VEVENT
BEGIN:VEVENT
DTSTART;VALUE=DATE:20250502
DTEND;VALUE=DATE:20250503
DTSTAMP:20260425T222448
CREATED:20240925T184457Z
LAST-MODIFIED:20240925T184457Z
UID:2076-1746144000-1746230399@miramichivalleyhigh.nbed.ca
SUMMARY:NBTA Council Day
DESCRIPTION:
URL:https://miramichivalleyhigh.nbed.ca/event/nbta-council-day-5/
END:VEVENT
BEGIN:VEVENT
DTSTART;VALUE=DATE:20250501
DTEND;VALUE=DATE:20250502
DTSTAMP:20260425T222448
CREATED:20240925T184444Z
LAST-MODIFIED:20240925T184444Z
UID:2075-1746057600-1746143999@miramichivalleyhigh.nbed.ca
SUMMARY:NBTA Branch Meeting Day
DESCRIPTION:
URL:https://miramichivalleyhigh.nbed.ca/event/nbta-branch-meeting-day-2/
END:VEVENT
END:VCALENDAR